Package: qpgraph
Version: 2.41.0
Command: /home/biocbuild/R/R/bin/R CMD INSTALL qpgraph
StartedAt: 2025-01-29 19:51:22 -0000 (Wed, 29 Jan 2025)
EndedAt: 2025-01-29 19:52:37 -0000 (Wed, 29 Jan 2025)
EllapsedTime: 75.4 seconds
RetCode: 0
Status: OK