Package: qpgraph
Version: 2.41.0
Command: /home/biocbuild/R/R/bin/R CMD build --keep-empty-dirs --no-resave-data qpgraph
StartedAt: 2025-01-29 01:26:18 -0000 (Wed, 29 Jan 2025)
EndedAt: 2025-01-29 01:31:35 -0000 (Wed, 29 Jan 2025)
EllapsedTime: 317.2 seconds
RetCode: 0
Status: OK
PackageFile: qpgraph_2.41.0.tar.gz
PackageFileSize: 2.691 <A href="http://en.wikipedia.org/wiki/MiB" target="_blank">MiB</A>