Package: protGear
Version: 1.11.0
Command: /Library/Frameworks/R.framework/Resources/bin/R CMD INSTALL protGear
StartedAt: 2025-02-19 15:43:57 -0500 (Wed, 19 Feb 2025)
EndedAt: 2025-02-19 15:44:31 -0500 (Wed, 19 Feb 2025)
EllapsedTime: 34.4 seconds
RetCode: 0
Status: OK