Package: protGear
Version: 1.11.0
Command: /Library/Frameworks/R.framework/Resources/bin/R CMD check --install=check:protGear.install-out.txt --library=/Library/Frameworks/R.framework/Resources/library --no-vignettes --timings protGear_1.11.0.tar.gz
StartedAt: 2025-02-19 22:31:16 -0500 (Wed, 19 Feb 2025)
EndedAt: 2025-02-19 22:34:24 -0500 (Wed, 19 Feb 2025)
EllapsedTime: 187.8 seconds
RetCode: 0
Status: OK
CheckDir: protGear.Rcheck
Warnings: 0