Package: protGear Version: 1.11.0 Command: rm -rf protGear.buildbin-libdir && mkdir protGear.buildbin-libdir && /Users/biocbuild/BBS/utils/build-universal.sh protGear_1.11.0.tar.gz /Library/Frameworks/R.framework/Resources/bin/R protGear.buildbin-libdir StartedAt: 2025-02-20 00:47:49 -0500 (Thu, 20 Feb 2025) EndedAt: 2025-02-20 00:48:27 -0500 (Thu, 20 Feb 2025) EllapsedTime: 38.2 seconds RetCode: 0 Status: OK PackageFile: protGear_1.11.0.tgz PackageFileSize: 3.937 <A href="http://en.wikipedia.org/wiki/MiB" target="_blank">MiB</A>