Package: procoil Version: 2.35.0 Command: /Library/Frameworks/R.framework/Resources/bin/R CMD INSTALL procoil StartedAt: 2025-02-19 15:11:16 -0500 (Wed, 19 Feb 2025) EndedAt: 2025-02-19 15:11:51 -0500 (Wed, 19 Feb 2025) EllapsedTime: 34.9 seconds RetCode: 0 Status: OK