Package: procoil Version: 2.35.0 Command: /Library/Frameworks/R.framework/Resources/bin/R CMD build --keep-empty-dirs --no-resave-data procoil StartedAt: 2025-02-19 17:51:08 -0500 (Wed, 19 Feb 2025) EndedAt: 2025-02-19 17:51:48 -0500 (Wed, 19 Feb 2025) EllapsedTime: 40.1 seconds RetCode: 0 Status: OK PackageFile: procoil_2.35.0.tar.gz PackageFileSize: 1.306 <A href="http://en.wikipedia.org/wiki/MiB" target="_blank">MiB</A>