Package: procoil
Version: 2.35.0
Command: rm -rf procoil.buildbin-libdir && mkdir procoil.buildbin-libdir && /Users/biocbuild/BBS/utils/build-universal.sh procoil_2.35.0.tar.gz /Library/Frameworks/R.framework/Resources/bin/R procoil.buildbin-libdir
StartedAt: 2025-02-20 00:47:24 -0500 (Thu, 20 Feb 2025)
EndedAt: 2025-02-20 00:48:02 -0500 (Thu, 20 Feb 2025)
EllapsedTime: 38.0 seconds
RetCode: 0
Status: OK
PackageFile: procoil_2.35.0.tgz
PackageFileSize: 1.594 <A href="http://en.wikipedia.org/wiki/MiB" target="_blank">MiB</A>