Package: procoil
Version: 2.35.0
Command: rm -rf procoil.buildbin-libdir && mkdir procoil.buildbin-libdir && /Users/biocbuild/BBS/utils/build-universal.sh procoil_2.35.0.tar.gz /Library/Frameworks/R.framework/Resources/bin/R procoil.buildbin-libdir
StartedAt: 2025-02-19 22:33:23 -0500 (Wed, 19 Feb 2025)
EndedAt: 2025-02-19 22:33:34 -0500 (Wed, 19 Feb 2025)
EllapsedTime: 11.2 seconds
RetCode: 0
Status: OK
PackageFile: procoil_2.35.0.tgz
PackageFileSize: 1.595 <A href="http://en.wikipedia.org/wiki/MiB" target="_blank">MiB</A>