Package: proBAMr
Version: 1.41.0
Command: /Library/Frameworks/R.framework/Resources/bin/R CMD INSTALL proBAMr
StartedAt: 2025-02-19 15:14:29 -0500 (Wed, 19 Feb 2025)
EndedAt: 2025-02-19 15:14:44 -0500 (Wed, 19 Feb 2025)
EllapsedTime: 14.9 seconds
RetCode: 0
Status: OK