Package: proBAMr
Version: 1.41.0
Command: /Library/Frameworks/R.framework/Resources/bin/R CMD check --install=check:proBAMr.install-out.txt --library=/Library/Frameworks/R.framework/Resources/library --no-vignettes --timings proBAMr_1.41.0.tar.gz
StartedAt: 2025-02-19 20:51:04 -0500 (Wed, 19 Feb 2025)
EndedAt: 2025-02-19 20:53:01 -0500 (Wed, 19 Feb 2025)
EllapsedTime: 117.5 seconds
RetCode: 0
Status: OK
CheckDir: proBAMr.Rcheck
Warnings: 0