Package: proBAMr Version: 1.41.0 Command: /Library/Frameworks/R.framework/Resources/bin/R CMD build --keep-empty-dirs --no-resave-data proBAMr StartedAt: 2025-02-19 17:17:59 -0500 (Wed, 19 Feb 2025) EndedAt: 2025-02-19 17:18:32 -0500 (Wed, 19 Feb 2025) EllapsedTime: 32.4 seconds RetCode: 0 Status: OK PackageFile: proBAMr_1.41.0.tar.gz PackageFileSize: 814 <A href="http://en.wikipedia.org/wiki/KiB" target="_blank">KiB</A>