Package: proBAMr
Version: 1.41.0
Command: rm -rf proBAMr.buildbin-libdir && mkdir proBAMr.buildbin-libdir && /Users/biocbuild/BBS/utils/build-universal.sh proBAMr_1.41.0.tar.gz /Library/Frameworks/R.framework/Resources/bin/R proBAMr.buildbin-libdir
StartedAt: 2025-02-19 22:33:23 -0500 (Wed, 19 Feb 2025)
EndedAt: 2025-02-19 22:33:39 -0500 (Wed, 19 Feb 2025)
EllapsedTime: 16.4 seconds
RetCode: 0
Status: OK
PackageFile: proBAMr_1.41.0.tgz
PackageFileSize: 524.8 <A href="http://en.wikipedia.org/wiki/KiB" target="_blank">KiB</A>