Package: primirTSS
Version: 1.25.0
Command: E:\biocbuild\bbs-3.21-bioc\R\bin\R.exe CMD INSTALL primirTSS
StartedAt: 2025-02-19 16:22:36 -0500 (Wed, 19 Feb 2025)
EndedAt: 2025-02-19 16:26:49 -0500 (Wed, 19 Feb 2025)
EllapsedTime: 252.6 seconds
RetCode: 0
Status: OK