##############################################################################
##############################################################################
###
### Running command:
###
###   E:\biocbuild\bbs-3.21-bioc\R\bin\R.exe CMD INSTALL primirTSS
###
##############################################################################
##############################################################################


* installing to library 'E:/biocbuild/bbs-3.21-bioc/R/library'
* installing *source* package 'primirTSS' ...
** this is package 'primirTSS' version '1.25.0'
** using staged installation
** R
** inst
** byte-compile and prepare package for lazy loading
Warning: replacing previous import 'BiocGenerics::setequal' by 'dplyr::setequal' when loading 'primirTSS'
Warning: replacing previous import 'utils::findMatches' by 'S4Vectors::findMatches' when loading 'phastCons100way.UCSC.hg38'
** help
*** installing help indices
** building package indices
** installing vignettes
** testing if installed package can be loaded from temporary location
Warning: replacing previous import 'BiocGenerics::setequal' by 'dplyr::setequal' when loading 'primirTSS'
Warning: replacing previous import 'utils::findMatches' by 'S4Vectors::findMatches' when loading 'phastCons100way.UCSC.hg38'
** testing if installed package can be loaded from final location
Warning: replacing previous import 'BiocGenerics::setequal' by 'dplyr::setequal' when loading 'primirTSS'
Warning: replacing previous import 'utils::findMatches' by 'S4Vectors::findMatches' when loading 'phastCons100way.UCSC.hg38'
** testing if installed package keeps a record of temporary installation path
* DONE (primirTSS)