Package: primirTSS
Version: 1.25.0
Command: E:\biocbuild\bbs-3.21-bioc\R\bin\R.exe CMD check --no-multiarch --install=check:primirTSS.install-out.txt --library=E:\biocbuild\bbs-3.21-bioc\R\library --no-vignettes --timings primirTSS_1.25.0.tar.gz
StartedAt: 2025-02-20 04:15:23 -0500 (Thu, 20 Feb 2025)
EndedAt: 2025-02-20 04:20:51 -0500 (Thu, 20 Feb 2025)
EllapsedTime: 327.5 seconds
RetCode: 0
Status: WARNINGS
CheckDir: primirTSS.Rcheck
Warnings: 2