Package: primirTSS Version: 1.25.0 Command: rm -rf primirTSS.buildbin-libdir && mkdir primirTSS.buildbin-libdir && E:\biocbuild\bbs-3.21-bioc\R\bin\R.exe CMD INSTALL --build --library=primirTSS.buildbin-libdir primirTSS_1.25.0.tar.gz StartedAt: 2025-02-20 08:27:42 -0500 (Thu, 20 Feb 2025) EndedAt: 2025-02-20 08:31:31 -0500 (Thu, 20 Feb 2025) EllapsedTime: 228.4 seconds RetCode: 0 Status: OK PackageFile: primirTSS_1.25.0.zip PackageFileSize: 3.777 <A href="http://en.wikipedia.org/wiki/MiB" target="_blank">MiB</A>