Package: preciseTAD
Version: 1.17.0
Command: chmod a+r preciseTAD -R && E:\biocbuild\bbs-3.21-bioc\R\bin\R.exe CMD build --keep-empty-dirs --no-resave-data preciseTAD
StartedAt: 2025-02-19 20:52:40 -0500 (Wed, 19 Feb 2025)
EndedAt: 2025-02-19 20:56:51 -0500 (Wed, 19 Feb 2025)
EllapsedTime: 251.0 seconds
RetCode: 0
Status: OK
PackageFile: preciseTAD_1.17.0.tar.gz
PackageFileSize: 4.056 <A href="http://en.wikipedia.org/wiki/MiB" target="_blank">MiB</A>