Package: preciseTAD
Version: 1.17.0
Command: rm -rf preciseTAD.buildbin-libdir && mkdir preciseTAD.buildbin-libdir && E:\biocbuild\bbs-3.21-bioc\R\bin\R.exe CMD INSTALL --build --library=preciseTAD.buildbin-libdir preciseTAD_1.17.0.tar.gz
StartedAt: 2025-02-20 08:27:30 -0500 (Thu, 20 Feb 2025)
EndedAt: 2025-02-20 08:28:28 -0500 (Thu, 20 Feb 2025)
EllapsedTime: 57.5 seconds
RetCode: 0
Status: OK
PackageFile: preciseTAD_1.17.0.zip
PackageFileSize: 4.761 <A href="http://en.wikipedia.org/wiki/MiB" target="_blank">MiB</A>