Package: preciseTAD
Version: 1.17.0
Command: /Library/Frameworks/R.framework/Resources/bin/R CMD INSTALL preciseTAD
StartedAt: 2025-02-19 15:23:58 -0500 (Wed, 19 Feb 2025)
EndedAt: 2025-02-19 15:24:17 -0500 (Wed, 19 Feb 2025)
EllapsedTime: 18.8 seconds
RetCode: 0
Status: OK