Package: preciseTAD
Version: 1.17.0
Command: /Library/Frameworks/R.framework/Resources/bin/R CMD check --install=check:preciseTAD.install-out.txt --library=/Library/Frameworks/R.framework/Resources/library --no-vignettes --timings preciseTAD_1.17.0.tar.gz
StartedAt: 2025-02-19 20:50:13 -0500 (Wed, 19 Feb 2025)
EndedAt: 2025-02-19 20:54:53 -0500 (Wed, 19 Feb 2025)
EllapsedTime: 279.4 seconds
RetCode: 0
Status: OK
CheckDir: preciseTAD.Rcheck
Warnings: 0