Package: preciseTAD
Version: 1.17.0
Command: rm -rf preciseTAD.buildbin-libdir && mkdir preciseTAD.buildbin-libdir && /Users/biocbuild/BBS/utils/build-universal.sh preciseTAD_1.17.0.tar.gz /Library/Frameworks/R.framework/Resources/bin/R preciseTAD.buildbin-libdir
StartedAt: 2025-02-19 22:33:19 -0500 (Wed, 19 Feb 2025)
EndedAt: 2025-02-19 22:33:39 -0500 (Wed, 19 Feb 2025)
EllapsedTime: 20.4 seconds
RetCode: 0
Status: OK
PackageFile: preciseTAD_1.17.0.tgz
PackageFileSize: 4.774 <A href="http://en.wikipedia.org/wiki/MiB" target="_blank">MiB</A>