Package: plgem Version: 1.79.0 Command: chmod a+r plgem -R && E:\biocbuild\bbs-3.21-bioc\R\bin\R.exe CMD build --keep-empty-dirs --no-resave-data plgem StartedAt: 2025-02-19 20:48:41 -0500 (Wed, 19 Feb 2025) EndedAt: 2025-02-19 20:49:03 -0500 (Wed, 19 Feb 2025) EllapsedTime: 22.1 seconds RetCode: 0 Status: OK PackageFile: plgem_1.79.0.tar.gz PackageFileSize: 920.7 <A href="http://en.wikipedia.org/wiki/KiB" target="_blank">KiB</A>