Package: plgem Version: 1.79.0 Command: rm -rf plgem.buildbin-libdir && mkdir plgem.buildbin-libdir && E:\biocbuild\bbs-3.21-bioc\R\bin\R.exe CMD INSTALL --build --library=plgem.buildbin-libdir plgem_1.79.0.tar.gz StartedAt: 2025-02-20 08:26:31 -0500 (Thu, 20 Feb 2025) EndedAt: 2025-02-20 08:26:46 -0500 (Thu, 20 Feb 2025) EllapsedTime: 14.7 seconds RetCode: 0 Status: OK PackageFile: plgem_1.79.0.zip PackageFileSize: 1006 <A href="http://en.wikipedia.org/wiki/KiB" target="_blank">KiB</A>