Package: plgem
Version: 1.79.0
Command: /home/biocbuild/bbs-3.21-bioc/R/bin/R CMD check --install=check:plgem.install-out.txt --library=/home/biocbuild/bbs-3.21-bioc/R/site-library --timings plgem_1.79.0.tar.gz
StartedAt: 2025-02-20 01:14:04 -0500 (Thu, 20 Feb 2025)
EndedAt: 2025-02-20 01:14:53 -0500 (Thu, 20 Feb 2025)
EllapsedTime: 49.1 seconds
RetCode: 0
Status: OK
CheckDir: plgem.Rcheck
Warnings: 0