Package: plgem Version: 1.79.0 Command: /home/biocbuild/bbs-3.21-bioc/R/bin/R CMD build --keep-empty-dirs --no-resave-data plgem StartedAt: 2025-02-19 18:38:46 -0500 (Wed, 19 Feb 2025) EndedAt: 2025-02-19 18:39:00 -0500 (Wed, 19 Feb 2025) EllapsedTime: 14.0 seconds RetCode: 0 Status: OK PackageFile: plgem_1.79.0.tar.gz PackageFileSize: 1.037 <A href="http://en.wikipedia.org/wiki/MiB" target="_blank">MiB</A>