Package: plgem Version: 1.79.0 Command: /Library/Frameworks/R.framework/Resources/bin/R CMD INSTALL plgem StartedAt: 2025-02-19 15:05:32 -0500 (Wed, 19 Feb 2025) EndedAt: 2025-02-19 15:06:10 -0500 (Wed, 19 Feb 2025) EllapsedTime: 38.0 seconds RetCode: 0 Status: OK