Package: plgem Version: 1.79.0 Command: /Library/Frameworks/R.framework/Resources/bin/R CMD build --keep-empty-dirs --no-resave-data plgem StartedAt: 2025-02-19 17:48:59 -0500 (Wed, 19 Feb 2025) EndedAt: 2025-02-19 17:49:19 -0500 (Wed, 19 Feb 2025) EllapsedTime: 19.4 seconds RetCode: 0 Status: OK PackageFile: plgem_1.79.0.tar.gz PackageFileSize: 1.037 <A href="http://en.wikipedia.org/wiki/MiB" target="_blank">MiB</A>