Package: plgem
Version: 1.79.0
Command: /home/biocbuild/R/R/bin/R CMD INSTALL plgem
StartedAt: 2025-01-29 19:33:17 -0000 (Wed, 29 Jan 2025)
EndedAt: 2025-01-29 19:33:36 -0000 (Wed, 29 Jan 2025)
EllapsedTime: 18.6 seconds
RetCode: 0
Status: OK