Package: plgem
Version: 1.79.0
Command: /home/biocbuild/R/R/bin/R CMD check --install=check:plgem.install-out.txt --library=/home/biocbuild/R/R/site-library --no-vignettes --timings plgem_1.79.0.tar.gz
StartedAt: 2025-01-28 13:57:16 -0000 (Tue, 28 Jan 2025)
EndedAt: 2025-01-28 13:58:12 -0000 (Tue, 28 Jan 2025)
EllapsedTime: 56.0 seconds
RetCode: 0
Status: OK
CheckDir: plgem.Rcheck
Warnings: 0