Package: plgem
Version: 1.79.0
Command: /home/biocbuild/R/R/bin/R CMD build --keep-empty-dirs --no-resave-data plgem
StartedAt: 2025-01-29 01:18:04 -0000 (Wed, 29 Jan 2025)
EndedAt: 2025-01-29 01:18:26 -0000 (Wed, 29 Jan 2025)
EllapsedTime: 22.0 seconds
RetCode: 0
Status: OK
PackageFile: plgem_1.79.0.tar.gz
PackageFileSize: 1.03 <A href="http://en.wikipedia.org/wiki/MiB" target="_blank">MiB</A>