Package: plgem
Version: 1.79.0
Command: /Library/Frameworks/R.framework/Resources/bin/R CMD build --keep-empty-dirs --no-resave-data plgem
StartedAt: 2025-02-19 17:16:30 -0500 (Wed, 19 Feb 2025)
EndedAt: 2025-02-19 17:16:37 -0500 (Wed, 19 Feb 2025)
EllapsedTime: 7.1 seconds
RetCode: 0
Status: OK
PackageFile: plgem_1.79.0.tar.gz
PackageFileSize: 1.038 <A href="http://en.wikipedia.org/wiki/MiB" target="_blank">MiB</A>