Package: plgem Version: 1.79.0 Command: rm -rf plgem.buildbin-libdir && mkdir plgem.buildbin-libdir && /Users/biocbuild/BBS/utils/build-universal.sh plgem_1.79.0.tar.gz /Library/Frameworks/R.framework/Resources/bin/R plgem.buildbin-libdir StartedAt: 2025-02-19 22:33:02 -0500 (Wed, 19 Feb 2025) EndedAt: 2025-02-19 22:33:04 -0500 (Wed, 19 Feb 2025) EllapsedTime: 2.1 seconds RetCode: 0 Status: OK PackageFile: plgem_1.79.0.tgz PackageFileSize: 1.12 <A href="http://en.wikipedia.org/wiki/MiB" target="_blank">MiB</A>