Package: planttfhunter Version: 1.7.0 Command: rm -rf planttfhunter.buildbin-libdir && mkdir planttfhunter.buildbin-libdir && /Users/biocbuild/BBS/utils/build-universal.sh planttfhunter_1.7.0.tar.gz /Library/Frameworks/R.framework/Resources/bin/R planttfhunter.buildbin-libdir StartedAt: 2025-02-01 00:31:45 -0500 (Sat, 01 Feb 2025) EndedAt: 2025-02-01 00:32:18 -0500 (Sat, 01 Feb 2025) EllapsedTime: 33.7 seconds RetCode: 0 Status: OK PackageFile: planttfhunter_1.7.0.tgz PackageFileSize: 1.002 MiB