Package: planttfhunter Version: 1.7.0 Command: /Library/Frameworks/R.framework/Resources/bin/R CMD build --keep-empty-dirs --no-resave-data planttfhunter StartedAt: 2025-01-31 17:16:45 -0500 (Fri, 31 Jan 2025) EndedAt: 2025-01-31 17:16:59 -0500 (Fri, 31 Jan 2025) EllapsedTime: 14.2 seconds RetCode: 0 Status: OK PackageFile: planttfhunter_1.7.0.tar.gz PackageFileSize: 991.8 KiB