Package: pRoloc Version: 1.47.2 Command: E:\biocbuild\bbs-3.21-bioc\R\bin\R.exe CMD INSTALL pRoloc StartedAt: 2025-02-19 16:44:23 -0500 (Wed, 19 Feb 2025) EndedAt: 2025-02-19 16:46:42 -0500 (Wed, 19 Feb 2025) EllapsedTime: 138.6 seconds RetCode: 0 Status: OK