Package: pRoloc
Version: 1.47.2
Command: E:\biocbuild\bbs-3.21-bioc\R\bin\R.exe CMD check --no-multiarch --install=check:pRoloc.install-out.txt --library=E:\biocbuild\bbs-3.21-bioc\R\library --no-vignettes --timings pRoloc_1.47.2.tar.gz
StartedAt: 2025-02-20 04:17:48 -0500 (Thu, 20 Feb 2025)
EndedAt: 2025-02-20 04:29:25 -0500 (Thu, 20 Feb 2025)
EllapsedTime: 697.3 seconds
RetCode: 0
Status: OK
CheckDir: pRoloc.Rcheck
Warnings: 0