##############################################################################
##############################################################################
###
### Running command:
###
###   E:\biocbuild\bbs-3.21-bioc\R\bin\R.exe CMD check --no-multiarch --install=check:pRoloc.install-out.txt --library=E:\biocbuild\bbs-3.21-bioc\R\library --no-vignettes --timings pRoloc_1.47.2.tar.gz
###
##############################################################################
##############################################################################


* using log directory 'E:/biocbuild/bbs-3.21-bioc/meat/pRoloc.Rcheck'
* using R Under development (unstable) (2025-01-21 r87610 ucrt)
* using platform: x86_64-w64-mingw32
* R was compiled by
    gcc.exe (GCC) 13.3.0
    GNU Fortran (GCC) 13.3.0
* running under: Windows Server 2022 x64 (build 20348)
* using session charset: UTF-8
* using option '--no-vignettes'
* checking for file 'pRoloc/DESCRIPTION' ... OK
* checking extension type ... Package
* this is package 'pRoloc' version '1.47.2'
* package encoding: UTF-8
* checking package namespace information ... OK
* checking package dependencies ... OK
* checking if this is a source package ... OK
* checking if there is a namespace ... OK
* checking for hidden files and directories ... OK
* checking for portable file names ... OK
* checking whether package 'pRoloc' can be installed ... OK
* used C++ compiler: 'G__~1.EXE (GCC) 13.3.0'
* checking installed package size ... OK
* checking package directory ... OK
* checking 'build' directory ... OK
* checking DESCRIPTION meta-information ... OK
* checking top-level files ... OK
* checking for left-over files ... OK
* checking index information ... OK
* checking package subdirectories ... OK
* checking code files for non-ASCII characters ... OK
* checking R files for syntax errors ... OK
* checking whether the package can be loaded ... OK
* checking whether the package can be loaded with stated dependencies ... OK
* checking whether the package can be unloaded cleanly ... OK
* checking whether the namespace can be loaded with stated dependencies ... OK
* checking whether the namespace can be unloaded cleanly ... OK
* checking whether startup messages can be suppressed ... OK
* checking dependencies in R code ... NOTE
':::' calls which should be '::':
  'MLInterfaces:::.macroF1' 'MLInterfaces:::.precision'
  'MLInterfaces:::.recall' 'MLInterfaces:::es2df'
  See the note in ?`:::` about the use of this operator.
Unexported objects imported by ':::' calls:
  'MSnbase:::.sameNbCol' 'MSnbase:::getVariableName'
  'MSnbase:::logging' 'MSnbase:::nologging' 'caret:::predict.plsda'
  See the note in ?`:::` about the use of this operator.
There are ::: calls to the package's namespace in its code. A package
  almost never needs to use ::: for its own objects:
  'getAttributesOfInterest0' 'getAttributesOfInterestX'
* checking S3 generic/method consistency ... OK
* checking replacement functions ... OK
* checking foreign function calls ... OK
* checking R code for possible problems ... NOTE
Found the following possibly unsafe calls:
File 'pRoloc/R/annotation.R':
  unlockBinding("params", .pRolocEnv)
* checking Rd files ... OK
* checking Rd metadata ... OK
* checking Rd cross-references ... NOTE
Found the following Rd file(s) with Rd \link{} targets missing package
anchors:
  GenRegRes-class.Rd: MSnSet-class
  MLearn-methods.Rd: MSnSet-class, xvalSpec, MLearn
  QSep-class.Rd: MSnSet-class, Versioned-class
  SpatProtVis-class.Rd: MSnSet-class
  clustDist.Rd: MSnSet-class
  getMarkerClasses.Rd: MSnSet-class
  getMarkers.Rd: MSnSet-class
  getPredictions.Rd: MSnSet-class
  highlightOnPlot.Rd: FeaturesOfInterest-class
  knnClassification.Rd: MSnSet-class, knn
  knnOptimisation.Rd: MSnSet-class, knn
  knntlClassification.Rd: MSnSet-class
  knntlOptimisation.Rd: MSnSet-class
  ksvmClassification.Rd: MSnSet-class, ksvm
  ksvmOptimisation.Rd: MSnSet-class, ksvm
  makeGoSet.Rd: MSnSet-class
  minMarkers.Rd: MSnSet-class
  move2Ds.Rd: MSnSetList
  nbClassification.Rd: MSnSet-class, naiveBayes
  nbOptimisation.Rd: MSnSet-class, naiveBayes
  nnetClassification.Rd: MSnSet-class, nnet
  nnetOptimisation.Rd: MSnSet-class, nnet
  orgQuants.Rd: MSnSet-class
  perTurboClassification.Rd: MSnSet-class, ginv
  perTurboOptimisation.Rd: MSnSet-class, ginv
  phenoDisco.Rd: filterNA
  plot2Ds.Rd: MSnSet-class, MSnSetList
  plsdaClassification.Rd: MSnSet-class, plsda
  plsdaOptimisation.Rd: MSnSet-class, plsda
  rfClassification.Rd: MSnSet-class, randomForest
  rfOptimisation.Rd: MSnSet-class, randomForest
  sampleMSnSet.Rd: MSnSet-class
  svmClassification.Rd: MSnSet-class, svm
  svmOptimisation.Rd: MSnSet-class, svm
  testMSnSet.Rd: MSnSet-class
  testMarkers.Rd: MSnSet-class
Please provide package anchors for all Rd \link{} targets not in the
package itself and the base packages.
* checking for missing documentation entries ... OK
* checking for code/documentation mismatches ... OK
* checking Rd \usage sections ... OK
* checking Rd contents ... OK
* checking for unstated dependencies in examples ... OK
* checking contents of 'data' directory ... OK
* checking data for non-ASCII characters ... OK
* checking data for ASCII and uncompressed saves ... OK
* checking line endings in C/C++/Fortran sources/headers ... OK
* checking line endings in Makefiles ... OK
* checking compilation flags in Makevars ... OK
* checking for GNU extensions in Makefiles ... OK
* checking for portable use of $(BLAS_LIBS) and $(LAPACK_LIBS) ... OK
* checking use of PKG_*FLAGS in Makefiles ... OK
* checking compiled code ... NOTE
Note: information on .o files for x64 is not available
File 'E:/biocbuild/bbs-3.21-bioc/R/library/pRoloc/libs/x64/pRoloc.dll':
  Found '_exit', possibly from '_exit' (C)
  Found 'abort', possibly from 'abort' (C), 'runtime' (Fortran)
  Found 'exit', possibly from 'exit' (C), 'stop' (Fortran)

Compiled code should not call entry points which might terminate R nor
write to stdout/stderr instead of to the console, nor use Fortran I/O
nor system RNGs nor [v]sprintf. The detected symbols are linked into
the code but might come from libraries and not actually be called.

See 'Writing portable packages' in the 'Writing R Extensions' manual.
* checking files in 'vignettes' ... OK
* checking examples ... OK
Examples with CPU (user + system) or elapsed time > 5s
                        user system elapsed
perTurboClassification 13.60   0.20   13.80
nnetClassification      6.78   0.03    6.81
SpatProtVis-class       6.44   0.16    6.59
svmClassification       6.17   0.11    6.28
rfClassification        5.86   0.09    5.95
ClustDist-class         5.47   0.30    7.65
ClustDistList-class     5.08   0.17    6.25
ksvmClassification      4.92   0.18    5.09
clustDist               4.33   0.17    5.56
addGoAnnotations        3.81   0.18    5.31
* checking for unstated dependencies in 'tests' ... OK
* checking tests ...
  Running 'testthat.R'
 OK
* checking for unstated dependencies in vignettes ... OK
* checking package vignettes ... OK
* checking running R code from vignettes ... SKIPPED
* checking re-building of vignette outputs ... SKIPPED
* checking PDF version of manual ... OK
* DONE

Status: 4 NOTEs
See
  'E:/biocbuild/bbs-3.21-bioc/meat/pRoloc.Rcheck/00check.log'
for details.