Package: pRoloc Version: 1.47.2 Command: chmod a+r pRoloc -R && E:\biocbuild\bbs-3.21-bioc\R\bin\R.exe CMD build --keep-empty-dirs --no-resave-data pRoloc StartedAt: 2025-02-19 20:54:18 -0500 (Wed, 19 Feb 2025) EndedAt: 2025-02-19 21:04:46 -0500 (Wed, 19 Feb 2025) EllapsedTime: 627.8 seconds RetCode: 0 Status: OK PackageFile: pRoloc_1.47.2.tar.gz PackageFileSize: 6.257 <A href="http://en.wikipedia.org/wiki/MiB" target="_blank">MiB</A>