##############################################################################
##############################################################################
###
### Running command:
###
###   chmod a+r pRoloc -R && E:\biocbuild\bbs-3.21-bioc\R\bin\R.exe CMD build --keep-empty-dirs --no-resave-data pRoloc
###
##############################################################################
##############################################################################


* checking for file 'pRoloc/DESCRIPTION' ... OK
* preparing 'pRoloc':
* checking DESCRIPTION meta-information ... OK
* cleaning src
* installing the package to build vignettes
* creating vignettes ... OK
* cleaning src
* checking for LF line-endings in source and make files and shell scripts
* checking for empty or unneeded directories
WARNING: directory 'pRoloc/pkgdown' is empty
* looking to see if a 'data/datalist' file should be added
* building 'pRoloc_1.47.2.tar.gz'