Package: pRoloc Version: 1.47.2 Command: rm -rf pRoloc.buildbin-libdir && mkdir pRoloc.buildbin-libdir && E:\biocbuild\bbs-3.21-bioc\R\bin\R.exe CMD INSTALL --build --library=pRoloc.buildbin-libdir pRoloc_1.47.2.tar.gz StartedAt: 2025-02-20 08:28:09 -0500 (Thu, 20 Feb 2025) EndedAt: 2025-02-20 08:31:15 -0500 (Thu, 20 Feb 2025) EllapsedTime: 186.5 seconds RetCode: 0 Status: OK PackageFile: pRoloc_1.47.2.zip PackageFileSize: 6.325 <A href="http://en.wikipedia.org/wiki/MiB" target="_blank">MiB</A>