Package: pRoloc Version: 1.47.1 Command: /home/biocbuild/bbs-3.21-bioc/R/bin/R CMD check --install=check:pRoloc.install-out.txt --library=/home/biocbuild/bbs-3.21-bioc/R/site-library --timings pRoloc_1.47.1.tar.gz StartedAt: 2025-02-05 01:37:00 -0500 (Wed, 05 Feb 2025) EndedAt: 2025-02-05 01:51:28 -0500 (Wed, 05 Feb 2025) EllapsedTime: 868.3 seconds RetCode: 0 Status: OK CheckDir: pRoloc.Rcheck Warnings: 0