Package: pRoloc Version: 1.47.1 Command: /Library/Frameworks/R.framework/Resources/bin/R CMD check --install=check:pRoloc.install-out.txt --library=/Library/Frameworks/R.framework/Resources/library --no-vignettes --timings pRoloc_1.47.1.tar.gz StartedAt: 2025-02-04 20:46:48 -0500 (Tue, 04 Feb 2025) EndedAt: 2025-02-04 20:52:10 -0500 (Tue, 04 Feb 2025) EllapsedTime: 321.8 seconds RetCode: 0 Status: OK CheckDir: pRoloc.Rcheck Warnings: 0