Package: omada Version: 1.9.0 Command: chmod a+r omada -R && E:\biocbuild\bbs-3.21-bioc\R\bin\R.exe CMD build --keep-empty-dirs --no-resave-data omada StartedAt: 2025-01-31 20:13:25 -0500 (Fri, 31 Jan 2025) EndedAt: 2025-01-31 20:16:09 -0500 (Fri, 31 Jan 2025) EllapsedTime: 163.5 seconds RetCode: 0 Status: OK PackageFile: omada_1.9.0.tar.gz PackageFileSize: 82.83 KiB