Package: omada Version: 1.9.0 Command: /home/biocbuild/R/R/bin/R CMD build --keep-empty-dirs --no-resave-data omada StartedAt: 2025-01-29 00:56:39 -0000 (Wed, 29 Jan 2025) EndedAt: 2025-01-29 00:59:39 -0000 (Wed, 29 Jan 2025) EllapsedTime: 180.2 seconds RetCode: 0 Status: OK PackageFile: omada_1.9.0.tar.gz PackageFileSize: 101.8 KiB