Package: npGSEA Version: 1.43.0 Command: rm -rf npGSEA.buildbin-libdir && mkdir npGSEA.buildbin-libdir && E:\biocbuild\bbs-3.21-bioc\R\bin\R.exe CMD INSTALL --build --library=npGSEA.buildbin-libdir npGSEA_1.43.0.tar.gz StartedAt: 2025-02-05 08:29:45 -0500 (Wed, 05 Feb 2025) EndedAt: 2025-02-05 08:30:27 -0500 (Wed, 05 Feb 2025) EllapsedTime: 42.6 seconds RetCode: 0 Status: OK PackageFile: npGSEA_1.43.0.zip PackageFileSize: 639.4 KiB