Package: npGSEA
Version: 1.43.0
Command: /home/biocbuild/bbs-3.21-bioc/R/bin/R CMD INSTALL npGSEA
StartedAt: 2025-02-19 15:28:50 -0500 (Wed, 19 Feb 2025)
EndedAt: 2025-02-19 15:29:07 -0500 (Wed, 19 Feb 2025)
EllapsedTime: 16.5 seconds
RetCode: 0
Status: OK