Package: npGSEA Version: 1.43.0 Command: /home/biocbuild/bbs-3.21-bioc/R/bin/R CMD check --install=check:npGSEA.install-out.txt --library=/home/biocbuild/bbs-3.21-bioc/R/site-library --timings npGSEA_1.43.0.tar.gz StartedAt: 2025-02-20 00:45:20 -0500 (Thu, 20 Feb 2025) EndedAt: 2025-02-20 00:47:11 -0500 (Thu, 20 Feb 2025) EllapsedTime: 110.2 seconds RetCode: 0 Status: OK CheckDir: npGSEA.Rcheck Warnings: 0