Package: npGSEA
Version: 1.43.0
Command: /home/biocbuild/bbs-3.21-bioc/R/bin/R CMD build --keep-empty-dirs --no-resave-data npGSEA
StartedAt: 2025-02-19 18:25:03 -0500 (Wed, 19 Feb 2025)
EndedAt: 2025-02-19 18:25:58 -0500 (Wed, 19 Feb 2025)
EllapsedTime: 55.1 seconds
RetCode: 0
Status: OK
PackageFile: npGSEA_1.43.0.tar.gz
PackageFileSize: 385.7 <A href="http://en.wikipedia.org/wiki/KiB" target="_blank">KiB</A>