Package: npGSEA Version: 1.43.0 Command: /Library/Frameworks/R.framework/Resources/bin/R CMD check --install=check:npGSEA.install-out.txt --library=/Library/Frameworks/R.framework/Resources/library --no-vignettes --timings npGSEA_1.43.0.tar.gz StartedAt: 2025-02-04 22:06:29 -0500 (Tue, 04 Feb 2025) EndedAt: 2025-02-04 22:08:26 -0500 (Tue, 04 Feb 2025) EllapsedTime: 116.4 seconds RetCode: 0 Status: OK CheckDir: npGSEA.Rcheck Warnings: 0